Workbook

Sheet Registro de Horas
A1: ID | B1: Data | C1: Colaborador | D1: Cargo | E1: Cidade | F1: Tipo de jornada | G1: Entrada | H1: Saída para intervalo | I1: Retorno do intervalo | J1: Saída | K1: Horas trabalhadas | L1: Jornada prevista | M1: Horas extras | N1: Déficit de horas | O1: Status | P1: Observações
A2: RH-2026-001 | B2: 46267 | C2: João Silva | D2: Analista de Dados | E2: São Paulo | F2: Comercial | G2: 0.33333333 | H2: 0.5 | I2: 0.54166667 | J2: 0.70833333 | K2: =IF(A2="","",IFERROR((J2-G2)-(I2-H2),0)) | L2: =IF(A2="","",IFERROR(VLOOKUP(F2,'Resumo'!$J$2:$K$5,2,FALSE),TIME(8,0,0))) | M2: =IF(A2="","",IF(K2>L2,K2-L2,0)) | N2: =IF(A2="","",IF(K2<L2,L2-K2,0)) | O2: =IF(A2="","",IF(K2=0,"Pendente",IF(K2>L2,"Hora extra",IF(K2<L2,"Déficit","Regular")))) | P2: Jornada regular.
A3: RH-2026-002 | B3: 46268 | C3: Maria Oliveira | D3: Coordenadora Financeira | E3: Rio de Janeiro | F3: Comercial | G3: 0.33333333 | H3: 0.5 | I3: 0.54166667 | J3: 0.75 | K3: =IF(A3="","",IFERROR((J3-G3)-(I3-H3),0)) | L3: =IF(A3="","",IFERROR(VLOOKUP(F3,'Resumo'!$J$2:$K$5,2,FALSE),TIME(8,0,0))) | M3: =IF(A3="","",IF(K3>L3,K3-L3,0)) | N3: =IF(A3="","",IF(K3<L3,L3-K3,0)) | O3: =IF(A3="","",IF(K3=0,"Pendente",IF(K3>L3,"Hora extra",IF(K3<L3,"Déficit","Regular")))) | P3: Fechamento mensal.
A4: RH-2026-003 | B4: 46268 | C4: Pedro Santos | D4: Assistente Administrativo | E4: Belo Horizonte | F4: Reduzida | G4: 0.33333333 | H4: 0.5 | I4: 0.54166667 | J4: 0.625 | K4: =IF(A4="","",IFERROR((J4-G4)-(I4-H4),0)) | L4: =IF(A4="","",IFERROR(VLOOKUP(F4,'Resumo'!$J$2:$K$5,2,FALSE),TIME(8,0,0))) | M4: =IF(A4="","",IF(K4>L4,K4-L4,0)) | N4: =IF(A4="","",IF(K4<L4,L4-K4,0)) | O4: =IF(A4="","",IF(K4=0,"Pendente",IF(K4>L4,"Hora extra",IF(K4<L4,"Déficit","Regular")))) | P4: Jornada reduzida regular.
A5: RH-2026-004 | B5: 46269 | C5: Ana Souza | D5: Analista de RH | E5: Curitiba | F5: Flexível | G5: 0.34375 | H5: 0.5 | I5: 0.54166667 | J5: 0.71875 | K5: =IF(A5="","",IFERROR((J5-G5)-(I5-H5),0)) | L5: =IF(A5="","",IFERROR(VLOOKUP(F5,'Resumo'!$J$2:$K$5,2,FALSE),TIME(8,0,0))) | M5: =IF(A5="","",IF(K5>L5,K5-L5,0)) | N5: =IF(A5="","",IF(K5<L5,L5-K5,0)) | O5: =IF(A5="","",IF(K5=0,"Pendente",IF(K5>L5,"Hora extra",IF(K5<L5,"Déficit","Regular")))) | P5: Atendimento interno.
A6: RH-2026-005 | B6: 46269 | C6: Carlos Pereira | D6: Técnico de Operações | E6: Porto Alegre | F6: Escala 12x36 | G6: 0.29166667 | H6: 0.5 | I6: 0.54166667 | J6: 0.79166667 | K6: =IF(A6="","",IFERROR((J6-G6)-(I6-H6),0)) | L6: =IF(A6="","",IFERROR(VLOOKUP(F6,'Resumo'!$J$2:$K$5,2,FALSE),TIME(8,0,0))) | M6: =IF(A6="","",IF(K6>L6,K6-L6,0)) | N6: =IF(A6="","",IF(K6<L6,L6-K6,0)) | O6: =IF(A6="","",IF(K6=0,"Pendente",IF(K6>L6,"Hora extra",IF(K6<L6,"Déficit","Regular")))) | P6: Saída antecipada autorizada.
A7: RH-2026-006 | B7: 46270 | C7: Juliana Costa | D7: Gerente Comercial | E7: Salvador | F7: Comercial | G7: 0.33333333 | H7: 0.5 | I7: 0.54166667 | J7: 0.77083333 | K7: =IF(A7="","",IFERROR((J7-G7)-(I7-H7),0)) | L7: =IF(A7="","",IFERROR(VLOOKUP(F7,'Resumo'!$J$2:$K$5,2,FALSE),TIME(8,0,0))) | M7: =IF(A7="","",IF(K7>L7,K7-L7,0)) | N7: =IF(A7="","",IF(K7<L7,L7-K7,0)) | O7: =IF(A7="","",IF(K7=0,"Pendente",IF(K7>L7,"Hora extra",IF(K7<L7,"Déficit","Regular")))) | P7: Reunião com clientes.
A8: RH-2026-007 | B8: 46271 | C8: Rafael Almeida | D8: Supervisor de Logística | E8: Recife | F8: Comercial | G8: 0.33333333 | H8: 0.5 | I8: 0.54166667 | J8: 0.70833333 | K8: =IF(A8="","",IFERROR((J8-G8)-(I8-H8),0)) | L8: =IF(A8="","",IFERROR(VLOOKUP(F8,'Resumo'!$J$2:$K$5,2,FALSE),TIME(8,0,0))) | M8: =IF(A8="","",IF(K8>L8,K8-L8,0)) | N8: =IF(A8="","",IF(K8<L8,L8-K8,0)) | O8: =IF(A8="","",IF(K8=0,"Pendente",IF(K8>L8,"Hora extra",IF(K8<L8,"Déficit","Regular")))) | P8: Jornada regular.
A9: RH-2026-008 | B9: 46272 | C9: Camila Ferreira | D9: Designer | E9: Fortaleza | F9: Flexível | G9: 0.35416667 | H9: 0.52083333 | I9: 0.5625 | J9: 0.72916667 | K9: =IF(A9="","",IFERROR((J9-G9)-(I9-H9),0)) | L9: =IF(A9="","",IFERROR(VLOOKUP(F9,'Resumo'!$J$2:$K$5,2,FALSE),TIME(8,0,0))) | M9: =IF(A9="","",IF(K9>L9,K9-L9,0)) | N9: =IF(A9="","",IF(K9<L9,L9-K9,0)) | O9: =IF(A9="","",IF(K9=0,"Pendente",IF(K9>L9,"Hora extra",IF(K9<L9,"Déficit","Regular")))) | P9: Jornada regular.
A10: RH-2026-009 | B10: 46273 | C10: Lucas Rodrigues | D10: Analista de Sistemas | E10: Campinas | F10: Comercial | K10: =IF(A10="","",IFERROR((J10-G10)-(I10-H10),0)) | L10: =IF(A10="","",IFERROR(VLOOKUP(F10,'Resumo'!$J$2:$K$5,2,FALSE),TIME(8,0,0))) | M10: =IF(A10="","",IF(K10>L10,K10-L10,0)) | N10: =IF(A10="","",IF(K10<L10,L10-K10,0)) | O10: =IF(A10="","",IF(K10=0,"Pendente",IF(K10>L10,"Hora extra",IF(K10<L10,"Déficit","Regular")))) | P10: Aguardando registro de ponto.
K11: =IF(A11="","",IFERROR((J11-G11)-(I11-H11),0)) | L11: =IF(A11="","",IFERROR(VLOOKUP(F11,'Resumo'!$J$2:$K$5,2,FALSE),TIME(8,0,0))) | M11: =IF(A11="","",IF(K11>L11,K11-L11,0)) | N11: =IF(A11="","",IF(K11<L11,L11-K11,0)) | O11: =IF(A11="","",IF(K11=0,"Pendente",IF(K11>L11,"Hora extra",IF(K11<L11,"Déficit","Regular"))))
K12: =IF(A12="","",IFERROR((J12-G12)-(I12-H12),0)) | L12: =IF(A12="","",IFERROR(VLOOKUP(F12,'Resumo'!$J$2:$K$5,2,FALSE),TIME(8,0,0))) | M12: =IF(A12="","",IF(K12>L12,K12-L12,0)) | N12: =IF(A12="","",IF(K12<L12,L12-K12,0)) | O12: =IF(A12="","",IF(K12=0,"Pendente",IF(K12>L12,"Hora extra",IF(K12<L12,"Déficit","Regular"))))
K13: =IF(A13="","",IFERROR((J13-G13)-(I13-H13),0)) | L13: =IF(A13="","",IFERROR(VLOOKUP(F13,'Resumo'!$J$2:$K$5,2,FALSE),TIME(8,0,0))) | M13: =IF(A13="","",IF(K13>L13,K13-L13,0)) | N13: =IF(A13="","",IF(K13<L13,L13-K13,0)) | O13: =IF(A13="","",IF(K13=0,"Pendente",IF(K13>L13,"Hora extra",IF(K13<L13,"Déficit","Regular"))))
K14: =IF(A14="","",IFERROR((J14-G14)-(I14-H14),0)) | L14: =IF(A14="","",IFERROR(VLOOKUP(F14,'Resumo'!$J$2:$K$5,2,FALSE),TIME(8,0,0))) | M14: =IF(A14="","",IF(K14>L14,K14-L14,0)) | N14: =IF(A14="","",IF(K14<L14,L14-K14,0)) | O14: =IF(A14="","",IF(K14=0,"Pendente",IF(K14>L14,"Hora extra",IF(K14<L14,"Déficit","Regular"))))
K15: =IF(A15="","",IFERROR((J15-G15)-(I15-H15),0)) | L15: =IF(A15="","",IFERROR(VLOOKUP(F15,'Resumo'!$J$2:$K$5,2,FALSE),TIME(8,0,0))) | M15: =IF(A15="","",IF(K15>L15,K15-L15,0)) | N15: =IF(A15="","",IF(K15<L15,L15-K15,0)) | O15: =IF(A15="","",IF(K15=0,"Pendente",IF(K15>L15,"Hora extra",IF(K15<L15,"Déficit","Regular"))))
K16: =IF(A16="","",IFERROR((J16-G16)-(I16-H16),0)) | L16: =IF(A16="","",IFERROR(VLOOKUP(F16,'Resumo'!$J$2:$K$5,2,FALSE),TIME(8,0,0))) | M16: =IF(A16="","",IF(K16>L16,K16-L16,0)) | N16: =IF(A16="","",IF(K16<L16,L16-K16,0)) | O16: =IF(A16="","",IF(K16=0,"Pendente",IF(K16>L16,"Hora extra",IF(K16<L16,"Déficit","Regular"))))
K17: =IF(A17="","",IFERROR((J17-G17)-(I17-H17),0)) | L17: =IF(A17="","",IFERROR(VLOOKUP(F17,'Resumo'!$J$2:$K$5,2,FALSE),TIME(8,0,0))) | M17: =IF(A17="","",IF(K17>L17,K17-L17,0)) | N17: =IF(A17="","",IF(K17<L17,L17-K17,0)) | O17: =IF(A17="","",IF(K17=0,"Pendente",IF(K17>L17,"Hora extra",IF(K17<L17,"Déficit","Regular"))))
K18: =IF(A18="","",IFERROR((J18-G18)-(I18-H18),0)) | L18: =IF(A18="","",IFERROR(VLOOKUP(F18,'Resumo'!$J$2:$K$5,2,FALSE),TIME(8,0,0))) | M18: =IF(A18="","",IF(K18>L18,K18-L18,0)) | N18: =IF(A18="","",IF(K18<L18,L18-K18,0)) | O18: =IF(A18="","",IF(K18=0,"Pendente",IF(K18>L18,"Hora extra",IF(K18<L18,"Déficit","Regular"))))
K19: =IF(A19="","",IFERROR((J19-G19)-(I19-H19),0)) | L19: =IF(A19="","",IFERROR(VLOOKUP(F19,'Resumo'!$J$2:$K$5,2,FALSE),TIME(8,0,0))) | M19: =IF(A19="","",IF(K19>L19,K19-L19,0)) | N19: =IF(A19="","",IF(K19<L19,L19-K19,0)) | O19: =IF(A19="","",IF(K19=0,"Pendente",IF(K19>L19,"Hora extra",IF(K19<L19,"Déficit","Regular"))))
K20: =IF(A20="","",IFERROR((J20-G20)-(I20-H20),0)) | L20: =IF(A20="","",IFERROR(VLOOKUP(F20,'Resumo'!$J$2:$K$5,2,FALSE),TIME(8,0,0))) | M20: =IF(A20="","",IF(K20>L20,K20-L20,0)) | N20: =IF(A20="","",IF(K20<L20,L20-K20,0)) | O20: =IF(A20="","",IF(K20=0,"Pendente",IF(K20>L20,"Hora extra",IF(K20<L20,"Déficit","Regular"))))
K21: =IF(A21="","",IFERROR((J21-G21)-(I21-H21),0)) | L21: =IF(A21="","",IFERROR(VLOOKUP(F21,'Resumo'!$J$2:$K$5,2,FALSE),TIME(8,0,0))) | M21: =IF(A21="","",IF(K21>L21,K21-L21,0)) | N21: =IF(A21="","",IF(K21<L21,L21-K21,0)) | O21: =IF(A21="","",IF(K21=0,"Pendente",IF(K21>L21,"Hora extra",IF(K21<L21,"Déficit","Regular"))))
K22: =IF(A22="","",IFERROR((J22-G22)-(I22-H22),0)) | L22: =IF(A22="","",IFERROR(VLOOKUP(F22,'Resumo'!$J$2:$K$5,2,FALSE),TIME(8,0,0))) | M22: =IF(A22="","",IF(K22>L22,K22-L22,0)) | N22: =IF(A22="","",IF(K22<L22,L22-K22,0)) | O22: =IF(A22="","",IF(K22=0,"Pendente",IF(K22>L22,"Hora extra",IF(K22<L22,"Déficit","Regular"))))
... K101: =IF(A101="","",IFERROR((J101-G101)-(I101-H101),0)) | L101: =IF(A101="","",IFERROR(VLOOKUP(F101,'Resumo'!$J$2:$K$5,2,FALSE),TIME(8,0,0))) | M101: =IF(A101="","",IF(K101>L101,K101-L101,0)) | N101: =IF(A101="","",IF(K101<L101,L101-K101,0)) | O101: =IF(A101="","",IF(K101=0,"Pendente",IF(K101>L101,"Hora extra",IF(K101<L101,"Déficit","Regular"))))

Sheet Resumo
A1: Resumo Gerencial — Controle de Horas | J1: Tipo de jornada | K1: Jornada prevista
J2: Comercial | K2: 0.33333333
A3: Indicador | B3: Resultado | J3: Reduzida | K3: 0.25
A4: Total de horas trabalhadas | B4: =SUM('Registro de Horas'!$K$2:$K$101) | J4: Escala 12x36 | K4: 0.5
A5: Média diária de horas | B5: =IFERROR(AVERAGE('Registro de Horas'!$K$2:$K$101),0) | J5: Flexível | K5: 0.33333333
A6: Total de horas extras | B6: =SUM('Registro de Horas'!$M$2:$M$101)
A7: Total de horas em déficit | B7: =SUM('Registro de Horas'!$N$2:$N$101)
A8: Quantidade de registros | B8: =COUNTA('Registro de Horas'!$A$2:$A$101)
A9: Dias com hora extra | B9: =COUNTIF('Registro de Horas'!$O$2:$O$101,"Hora extra")
A10: Percentual de registros regulares | B10: =IFERROR(COUNTIF('Registro de Horas'!$O$2:$O$101,"Regular")/COUNTA('Registro de Horas'!$A$2:$A$101),0)
A14: Colaborador | B14: Total de horas | C14: Média diária | D14: Horas extras | E14: Déficit | F14: Dias trabalhados | G14: Regularidade | H14: Status | I14: Quantidade
A15: João Silva | B15: =IF(A15="","",SUMIF('Registro de Horas'!$C$2:$C$101,A15,'Registro de Horas'!$K$2:$K$101)) | C15: =IF(A15="","",IFERROR(AVERAGEIF('Registro de Horas'!$C$2:$C$101,A15,'Registro de Horas'!$K$2:$K$101),0)) | D15: =IF(A15="","",SUMIF('Registro de Horas'!$C$2:$C$101,A15,'Registro de Horas'!$M$2:$M$101)) | E15: =IF(A15="","",SUMIF('Registro de Horas'!$C$2:$C$101,A15,'Registro de Horas'!$N$2:$N$101)) | F15: =IF(A15="","",COUNTIF('Registro de Horas'!$C$2:$C$101,A15)) | G15: =IF(A15="","",IFERROR(COUNTIFS('Registro de Horas'!$C$2:$C$101,A15,'Registro de Horas'!$O$2:$O$101,"Regular")/COUNTIF('Registro de Horas'!$C$2:$C$101,A15),0)) | H15: Regular | I15: =COUNTIF('Registro de Horas'!$O$2:$O$101,H15)
A16: Maria Oliveira | B16: =IF(A16="","",SUMIF('Registro de Horas'!$C$2:$C$101,A16,'Registro de Horas'!$K$2:$K$101)) | C16: =IF(A16="","",IFERROR(AVERAGEIF('Registro de Horas'!$C$2:$C$101,A16,'Registro de Horas'!$K$2:$K$101),0)) | D16: =IF(A16="","",SUMIF('Registro de Horas'!$C$2:$C$101,A16,'Registro de Horas'!$M$2:$M$101)) | E16: =IF(A16="","",SUMIF('Registro de Horas'!$C$2:$C$101,A16,'Registro de Horas'!$N$2:$N$101)) | F16: =IF(A16="","",COUNTIF('Registro de Horas'!$C$2:$C$101,A16)) | G16: =IF(A16="","",IFERROR(COUNTIFS('Registro de Horas'!$C$2:$C$101,A16,'Registro de Horas'!$O$2:$O$101,"Regular")/COUNTIF('Registro de Horas'!$C$2:$C$101,A16),0)) | H16: Hora extra | I16: =COUNTIF('Registro de Horas'!$O$2:$O$101,H16)
A17: Pedro Santos | B17: =IF(A17="","",SUMIF('Registro de Horas'!$C$2:$C$101,A17,'Registro de Horas'!$K$2:$K$101)) | C17: =IF(A17="","",IFERROR(AVERAGEIF('Registro de Horas'!$C$2:$C$101,A17,'Registro de Horas'!$K$2:$K$101),0)) | D17: =IF(A17="","",SUMIF('Registro de Horas'!$C$2:$C$101,A17,'Registro de Horas'!$M$2:$M$101)) | E17: =IF(A17="","",SUMIF('Registro de Horas'!$C$2:$C$101,A17,'Registro de Horas'!$N$2:$N$101)) | F17: =IF(A17="","",COUNTIF('Registro de Horas'!$C$2:$C$101,A17)) | G17: =IF(A17="","",IFERROR(COUNTIFS('Registro de Horas'!$C$2:$C$101,A17,'Registro de Horas'!$O$2:$O$101,"Regular")/COUNTIF('Registro de Horas'!$C$2:$C$101,A17),0)) | H17: Déficit | I17: =COUNTIF('Registro de Horas'!$O$2:$O$101,H17)
A18: Ana Souza | B18: =IF(A18="","",SUMIF('Registro de Horas'!$C$2:$C$101,A18,'Registro de Horas'!$K$2:$K$101)) | C18: =IF(A18="","",IFERROR(AVERAGEIF('Registro de Horas'!$C$2:$C$101,A18,'Registro de Horas'!$K$2:$K$101),0)) | D18: =IF(A18="","",SUMIF('Registro de Horas'!$C$2:$C$101,A18,'Registro de Horas'!$M$2:$M$101)) | E18: =IF(A18="","",SUMIF('Registro de Horas'!$C$2:$C$101,A18,'Registro de Horas'!$N$2:$N$101)) | F18: =IF(A18="","",COUNTIF('Registro de Horas'!$C$2:$C$101,A18)) | G18: =IF(A18="","",IFERROR(COUNTIFS('Registro de Horas'!$C$2:$C$101,A18,'Registro de Horas'!$O$2:$O$101,"Regular")/COUNTIF('Registro de Horas'!$C$2:$C$101,A18),0)) | H18: Pendente | I18: =COUNTIF('Registro de Horas'!$O$2:$O$101,H18)
A19: Carlos Pereira | B19: =IF(A19="","",SUMIF('Registro de Horas'!$C$2:$C$101,A19,'Registro de Horas'!$K$2:$K$101)) | C19: =IF(A19="","",IFERROR(AVERAGEIF('Registro de Horas'!$C$2:$C$101,A19,'Registro de Horas'!$K$2:$K$101),0)) | D19: =IF(A19="","",SUMIF('Registro de Horas'!$C$2:$C$101,A19,'Registro de Horas'!$M$2:$M$101)) | E19: =IF(A19="","",SUMIF('Registro de Horas'!$C$2:$C$101,A19,'Registro de Horas'!$N$2:$N$101)) | F19: =IF(A19="","",COUNTIF('Registro de Horas'!$C$2:$C$101,A19)) | G19: =IF(A19="","",IFERROR(COUNTIFS('Registro de Horas'!$C$2:$C$101,A19,'Registro de Horas'!$O$2:$O$101,"Regular")/COUNTIF('Registro de Horas'!$C$2:$C$101,A19),0))
A20: Juliana Costa | B20: =IF(A20="","",SUMIF('Registro de Horas'!$C$2:$C$101,A20,'Registro de Horas'!$K$2:$K$101)) | C20: =IF(A20="","",IFERROR(AVERAGEIF('Registro de Horas'!$C$2:$C$101,A20,'Registro de Horas'!$K$2:$K$101),0)) | D20: =IF(A20="","",SUMIF('Registro de Horas'!$C$2:$C$101,A20,'Registro de Horas'!$M$2:$M$101)) | E20: =IF(A20="","",SUMIF('Registro de Horas'!$C$2:$C$101,A20,'Registro de Horas'!$N$2:$N$101)) | F20: =IF(A20="","",COUNTIF('Registro de Horas'!$C$2:$C$101,A20)) | G20: =IF(A20="","",IFERROR(COUNTIFS('Registro de Horas'!$C$2:$C$101,A20,'Registro de Horas'!$O$2:$O$101,"Regular")/COUNTIF('Registro de Horas'!$C$2:$C$101,A20),0))
A21: Rafael Almeida | B21: =IF(A21="","",SUMIF('Registro de Horas'!$C$2:$C$101,A21,'Registro de Horas'!$K$2:$K$101)) | C21: =IF(A21="","",IFERROR(AVERAGEIF('Registro de Horas'!$C$2:$C$101,A21,'Registro de Horas'!$K$2:$K$101),0)) | D21: =IF(A21="","",SUMIF('Registro de Horas'!$C$2:$C$101,A21,'Registro de Horas'!$M$2:$M$101)) | E21: =IF(A21="","",SUMIF('Registro de Horas'!$C$2:$C$101,A21,'Registro de Horas'!$N$2:$N$101)) | F21: =IF(A21="","",COUNTIF('Registro de Horas'!$C$2:$C$101,A21)) | G21: =IF(A21="","",IFERROR(COUNTIFS('Registro de Horas'!$C$2:$C$101,A21,'Registro de Horas'!$O$2:$O$101,"Regular")/COUNTIF('Registro de Horas'!$C$2:$C$101,A21),0))
A22: Camila Ferreira | B22: =IF(A22="","",SUMIF('Registro de Horas'!$C$2:$C$101,A22,'Registro de Horas'!$K$2:$K$101)) | C22: =IF(A22="","",IFERROR(AVERAGEIF('Registro de Horas'!$C$2:$C$101,A22,'Registro de Horas'!$K$2:$K$101),0)) | D22: =IF(A22="","",SUMIF('Registro de Horas'!$C$2:$C$101,A22,'Registro de Horas'!$M$2:$M$101)) | E22: =IF(A22="","",SUMIF('Registro de Horas'!$C$2:$C$101,A22,'Registro de Horas'!$N$2:$N$101)) | F22: =IF(A22="","",COUNTIF('Registro de Horas'!$C$2:$C$101,A22)) | G22: =IF(A22="","",IFERROR(COUNTIFS('Registro de Horas'!$C$2:$C$101,A22,'Registro de Horas'!$O$2:$O$101,"Regular")/COUNTIF('Registro de Horas'!$C$2:$C$101,A22),0))
A23: Lucas Rodrigues | B23: =IF(A23="","",SUMIF('Registro de Horas'!$C$2:$C$101,A23,'Registro de Horas'!$K$2:$K$101)) | C23: =IF(A23="","",IFERROR(AVERAGEIF('Registro de Horas'!$C$2:$C$101,A23,'Registro de Horas'!$K$2:$K$101),0)) | D23: =IF(A23="","",SUMIF('Registro de Horas'!$C$2:$C$101,A23,'Registro de Horas'!$M$2:$M$101)) | E23: =IF(A23="","",SUMIF('Registro de Horas'!$C$2:$C$101,A23,'Registro de Horas'!$N$2:$N$101)) | F23: =IF(A23="","",COUNTIF('Registro de Horas'!$C$2:$C$101,A23)) | G23: =IF(A23="","",IFERROR(COUNTIFS('Registro de Horas'!$C$2:$C$101,A23,'Registro de Horas'!$O$2:$O$101,"Regular")/COUNTIF('Registro de Horas'!$C$2:$C$101,A23),0)) | H23: Data | I23: Horas trabalhadas
B24: =IF(A24="","",SUMIF('Registro de Horas'!$C$2:$C$101,A24,'Registro de Horas'!$K$2:$K$101)) | C24: =IF(A24="","",IFERROR(AVERAGEIF('Registro de Horas'!$C$2:$C$101,A24,'Registro de Horas'!$K$2:$K$101),0)) | D24: =IF(A24="","",SUMIF('Registro de Horas'!$C$2:$C$101,A24,'Registro de Horas'!$M$2:$M$101)) | E24: =IF(A24="","",SUMIF('Registro de Horas'!$C$2:$C$101,A24,'Registro de Horas'!$N$2:$N$101)) | F24: =IF(A24="","",COUNTIF('Registro de Horas'!$C$2:$C$101,A24)) | G24: =IF(A24="","",IFERROR(COUNTIFS('Registro de Horas'!$C$2:$C$101,A24,'Registro de Horas'!$O$2:$O$101,"Regular")/COUNTIF('Registro de Horas'!$C$2:$C$101,A24),0)) | H24: 46267 | I24: =IF(H24="","",IFERROR(SUMIF('Registro de Horas'!$B$2:$B$101,H24,'Registro de Horas'!$K$2:$K$101),0))
B25: =IF(A25="","",SUMIF('Registro de Horas'!$C$2:$C$101,A25,'Registro de Horas'!$K$2:$K$101)) | C25: =IF(A25="","",IFERROR(AVERAGEIF('Registro de Horas'!$C$2:$C$101,A25,'Registro de Horas'!$K$2:$K$101),0)) | D25: =IF(A25="","",SUMIF('Registro de Horas'!$C$2:$C$101,A25,'Registro de Horas'!$M$2:$M$101)) | E25: =IF(A25="","",SUMIF('Registro de Horas'!$C$2:$C$101,A25,'Registro de Horas'!$N$2:$N$101)) | F25: =IF(A25="","",COUNTIF('Registro de Horas'!$C$2:$C$101,A25)) | G25: =IF(A25="","",IFERROR(COUNTIFS('Registro de Horas'!$C$2:$C$101,A25,'Registro de Horas'!$O$2:$O$101,"Regular")/COUNTIF('Registro de Horas'!$C$2:$C$101,A25),0)) | H25: 46268 | I25: =IF(H25="","",IFERROR(SUMIF('Registro de Horas'!$B$2:$B$101,H25,'Registro de Horas'!$K$2:$K$101),0))
B26: =IF(A26="","",SUMIF('Registro de Horas'!$C$2:$C$101,A26,'Registro de Horas'!$K$2:$K$101)) | C26: =IF(A26="","",IFERROR(AVERAGEIF('Registro de Horas'!$C$2:$C$101,A26,'Registro de Horas'!$K$2:$K$101),0)) | D26: =IF(A26="","",SUMIF('Registro de Horas'!$C$2:$C$101,A26,'Registro de Horas'!$M$2:$M$101)) | E26: =IF(A26="","",SUMIF('Registro de Horas'!$C$2:$C$101,A26,'Registro de Horas'!$N$2:$N$101)) | F26: =IF(A26="","",COUNTIF('Registro de Horas'!$C$2:$C$101,A26)) | G26: =IF(A26="","",IFERROR(COUNTIFS('Registro de Horas'!$C$2:$C$101,A26,'Registro de Horas'!$O$2:$O$101,"Regular")/COUNTIF('Registro de Horas'!$C$2:$C$101,A26),0)) | H26: 46269 | I26: =IF(H26="","",IFERROR(SUMIF('Registro de Horas'!$B$2:$B$101,H26,'Registro de Horas'!$K$2:$K$101),0))
B27: =IF(A27="","",SUMIF('Registro de Horas'!$C$2:$C$101,A27,'Registro de Horas'!$K$2:$K$101)) | C27: =IF(A27="","",IFERROR(AVERAGEIF('Registro de Horas'!$C$2:$C$101,A27,'Registro de Horas'!$K$2:$K$101),0)) | D27: =IF(A27="","",SUMIF('Registro de Horas'!$C$2:$C$101,A27,'Registro de Horas'!$M$2:$M$101)) | E27: =IF(A27="","",SUMIF('Registro de Horas'!$C$2:$C$101,A27,'Registro de Horas'!$N$2:$N$101)) | F27: =IF(A27="","",COUNTIF('Registro de Horas'!$C$2:$C$101,A27)) | G27: =IF(A27="","",IFERROR(COUNTIFS('Registro de Horas'!$C$2:$C$101,A27,'Registro de Horas'!$O$2:$O$101,"Regular")/COUNTIF('Registro de Horas'!$C$2:$C$101,A27),0)) | H27: 46270 | I27: =IF(H27="","",IFERROR(SUMIF('Registro de Horas'!$B$2:$B$101,H27,'Registro de Horas'!$K$2:$K$101),0))
B28: =IF(A28="","",SUMIF('Registro de Horas'!$C$2:$C$101,A28,'Registro de Horas'!$K$2:$K$101)) | C28: =IF(A28="","",IFERROR(AVERAGEIF('Registro de Horas'!$C$2:$C$101,A28,'Registro de Horas'!$K$2:$K$101),0)) | D28: =IF(A28="","",SUMIF('Registro de Horas'!$C$2:$C$101,A28,'Registro de Horas'!$M$2:$M$101)) | E28: =IF(A28="","",SUMIF('Registro de Horas'!$C$2:$C$101,A28,'Registro de Horas'!$N$2:$N$101)) | F28: =IF(A28="","",COUNTIF('Registro de Horas'!$C$2:$C$101,A28)) | G28: =IF(A28="","",IFERROR(COUNTIFS('Registro de Horas'!$C$2:$C$101,A28,'Registro de Horas'!$O$2:$O$101,"Regular")/COUNTIF('Registro de Horas'!$C$2:$C$101,A28),0)) | H28: 46271 | I28: =IF(H28="","",IFERROR(SUMIF('Registro de Horas'!$B$2:$B$101,H28,'Registro de Horas'!$K$2:$K$101),0))
B29: =IF(A29="","",SUMIF('Registro de Horas'!$C$2:$C$101,A29,'Registro de Horas'!$K$2:$K$101)) | C29: =IF(A29="","",IFERROR(AVERAGEIF('Registro de Horas'!$C$2:$C$101,A29,'Registro de Horas'!$K$2:$K$101),0)) | D29: =IF(A29="","",SUMIF('Registro de Horas'!$C$2:$C$101,A29,'Registro de Horas'!$M$2:$M$101)) | E29: =IF(A29="","",SUMIF('Registro de Horas'!$C$2:$C$101,A29,'Registro de Horas'!$N$2:$N$101)) | F29: =IF(A29="","",COUNTIF('Registro de Horas'!$C$2:$C$101,A29)) | G29: =IF(A29="","",IFERROR(COUNTIFS('Registro de Horas'!$C$2:$C$101,A29,'Registro de Horas'!$O$2:$O$101,"Regular")/COUNTIF('Registro de Horas'!$C$2:$C$101,A29),0)) | H29: 46272 | I29: =IF(H29="","",IFERROR(SUMIF('Registro de Horas'!$B$2:$B$101,H29,'Registro de Horas'!$K$2:$K$101),0))
B30: =IF(A30="","",SUMIF('Registro de Horas'!$C$2:$C$101,A30,'Registro de Horas'!$K$2:$K$101)) | C30: =IF(A30="","",IFERROR(AVERAGEIF('Registro de Horas'!$C$2:$C$101,A30,'Registro de Horas'!$K$2:$K$101),0)) | D30: =IF(A30="","",SUMIF('Registro de Horas'!$C$2:$C$101,A30,'Registro de Horas'!$M$2:$M$101)) | E30: =IF(A30="","",SUMIF('Registro de Horas'!$C$2:$C$101,A30,'Registro de Horas'!$N$2:$N$101)) | F30: =IF(A30="","",COUNTIF('Registro de Horas'!$C$2:$C$101,A30)) | G30: =IF(A30="","",IFERROR(COUNTIFS('Registro de Horas'!$C$2:$C$101,A30,'Registro de Horas'!$O$2:$O$101,"Regular")/COUNTIF('Registro de Horas'!$C$2:$C$101,A30),0)) | H30: 46273 | I30: =IF(H30="","",IFERROR(SUMIF('Registro de Horas'!$B$2:$B$101,H30,'Registro de Horas'!$K$2:$K$101),0))
B31: =IF(A31="","",SUMIF('Registro de Horas'!$C$2:$C$101,A31,'Registro de Horas'!$K$2:$K$101)) | C31: =IF(A31="","",IFERROR(AVERAGEIF('Registro de Horas'!$C$2:$C$101,A31,'Registro de Horas'!$K$2:$K$101),0)) | D31: =IF(A31="","",SUMIF('Registro de Horas'!$C$2:$C$101,A31,'Registro de Horas'!$M$2:$M$101)) | E31: =IF(A31="","",SUMIF('Registro de Horas'!$C$2:$C$101,A31,'Registro de Horas'!$N$2:$N$101)) | F31: =IF(A31="","",COUNTIF('Registro de Horas'!$C$2:$C$101,A31)) | G31: =IF(A31="","",IFERROR(COUNTIFS('Registro de Horas'!$C$2:$C$101,A31,'Registro de Horas'!$O$2:$O$101,"Regular")/COUNTIF('Registro de Horas'!$C$2:$C$101,A31),0)) | I31: =IF(H31="","",IFERROR(SUMIF('Registro de Horas'!$B$2:$B$101,H31,'Registro de Horas'!$K$2:$K$101),0))
B32: =IF(A32="","",SUMIF('Registro de Horas'!$C$2:$C$101,A32,'Registro de Horas'!$K$2:$K$101)) | C32: =IF(A32="","",IFERROR(AVERAGEIF('Registro de Horas'!$C$2:$C$101,A32,'Registro de Horas'!$K$2:$K$101),0)) | D32: =IF(A32="","",SUMIF('Registro de Horas'!$C$2:$C$101,A32,'Registro de Horas'!$M$2:$M$101)) | E32: =IF(A32="","",SUMIF('Registro de Horas'!$C$2:$C$101,A32,'Registro de Horas'!$N$2:$N$101)) | F32: =IF(A32="","",COUNTIF('Registro de Horas'!$C$2:$C$101,A32)) | G32: =IF(A32="","",IFERROR(COUNTIFS('Registro de Horas'!$C$2:$C$101,A32,'Registro de Horas'!$O$2:$O$101,"Regular")/COUNTIF('Registro de Horas'!$C$2:$C$101,A32),0)) | I32: =IF(H32="","",IFERROR(SUMIF('Registro de Horas'!$B$2:$B$101,H32,'Registro de Horas'!$K$2:$K$101),0))
B33: =IF(A33="","",SUMIF('Registro de Horas'!$C$2:$C$101,A33,'Registro de Horas'!$K$2:$K$101)) | C33: =IF(A33="","",IFERROR(AVERAGEIF('Registro de Horas'!$C$2:$C$101,A33,'Registro de Horas'!$K$2:$K$101),0)) | D33: =IF(A33="","",SUMIF('Registro de Horas'!$C$2:$C$101,A33,'Registro de Horas'!$M$2:$M$101)) | E33: =IF(A33="","",SUMIF('Registro de Horas'!$C$2:$C$101,A33,'Registro de Horas'!$N$2:$N$101)) | F33: =IF(A33="","",COUNTIF('Registro de Horas'!$C$2:$C$101,A33)) | G33: =IF(A33="","",IFERROR(COUNTIFS('Registro de Horas'!$C$2:$C$101,A33,'Registro de Horas'!$O$2:$O$101,"Regular")/COUNTIF('Registro de Horas'!$C$2:$C$101,A33),0)) | I33: =IF(H33="","",IFERROR(SUMIF('Registro de Horas'!$B$2:$B$101,H33,'Registro de Horas'!$K$2:$K$101),0))
B34: =IF(A34="","",SUMIF('Registro de Horas'!$C$2:$C$101,A34,'Registro de Horas'!$K$2:$K$101)) | C34: =IF(A34="","",IFERROR(AVERAGEIF('Registro de Horas'!$C$2:$C$101,A34,'Registro de Horas'!$K$2:$K$101),0)) | D34: =IF(A34="","",SUMIF('Registro de Horas'!$C$2:$C$101,A34,'Registro de Horas'!$M$2:$M$101)) | E34: =IF(A34="","",SUMIF('Registro de Horas'!$C$2:$C$101,A34,'Registro de Horas'!$N$2:$N$101)) | F34: =IF(A34="","",COUNTIF('Registro de Horas'!$C$2:$C$101,A34)) | G34: =IF(A34="","",IFERROR(COUNTIFS('Registro de Horas'!$C$2:$C$101,A34,'Registro de Horas'!$O$2:$O$101,"Regular")/COUNTIF('Registro de Horas'!$C$2:$C$101,A34),0)) | I34: =IF(H34="","",IFERROR(SUMIF('Registro de Horas'!$B$2:$B$101,H34,'Registro de Horas'!$K$2:$K$101),0))
B35: =IF(A35="","",SUMIF('Registro de Horas'!$C$2:$C$101,A35,'Registro de Horas'!$K$2:$K$101)) | C35: =IF(A35="","",IFERROR(AVERAGEIF('Registro de Horas'!$C$2:$C$101,A35,'Registro de Horas'!$K$2:$K$101),0)) | D35: =IF(A35="","",SUMIF('Registro de Horas'!$C$2:$C$101,A35,'Registro de Horas'!$M$2:$M$101)) | E35: =IF(A35="","",SUMIF('Registro de Horas'!$C$2:$C$101,A35,'Registro de Horas'!$N$2:$N$101)) | F35: =IF(A35="","",COUNTIF('Registro de Horas'!$C$2:$C$101,A35)) | G35: =IF(A35="","",IFERROR(COUNTIFS('Registro de Horas'!$C$2:$C$101,A35,'Registro de Horas'!$O$2:$O$101,"Regular")/COUNTIF('Registro de Horas'!$C$2:$C$101,A35),0)) | I35: =IF(H35="","",IFERROR(SUMIF('Registro de Horas'!$B$2:$B$101,H35,'Registro de Horas'!$K$2:$K$101),0))
B36: =IF(A36="","",SUMIF('Registro de Horas'!$C$2:$C$101,A36,'Registro de Horas'!$K$2:$K$101)) | C36: =IF(A36="","",IFERROR(AVERAGEIF('Registro de Horas'!$C$2:$C$101,A36,'Registro de Horas'!$K$2:$K$101),0)) | D36: =IF(A36="","",SUMIF('Registro de Horas'!$C$2:$C$101,A36,'Registro de Horas'!$M$2:$M$101)) | E36: =IF(A36="","",SUMIF('Registro de Horas'!$C$2:$C$101,A36,'Registro de Horas'!$N$2:$N$101)) | F36: =IF(A36="","",COUNTIF('Registro de Horas'!$C$2:$C$101,A36)) | G36: =IF(A36="","",IFERROR(COUNTIFS('Registro de Horas'!$C$2:$C$101,A36,'Registro de Horas'!$O$2:$O$101,"Regular")/COUNTIF('Registro de Horas'!$C$2:$C$101,A36),0)) | I36: =IF(H36="","",IFERROR(SUMIF('Registro de Horas'!$B$2:$B$101,H36,'Registro de Horas'!$K$2:$K$101),0))
B37: =IF(A37="","",SUMIF('Registro de Horas'!$C$2:$C$101,A37,'Registro de Horas'!$K$2:$K$101)) | C37: =IF(A37="","",IFERROR(AVERAGEIF('Registro de Horas'!$C$2:$C$101,A37,'Registro de Horas'!$K$2:$K$101),0)) | D37: =IF(A37="","",SUMIF('Registro de Horas'!$C$2:$C$101,A37,'Registro de Horas'!$M$2:$M$101)) | E37: =IF(A37="","",SUMIF('Registro de Horas'!$C$2:$C$101,A37,'Registro de Horas'!$N$2:$N$101)) | F37: =IF(A37="","",COUNTIF('Registro de Horas'!$C$2:$C$101,A37)) | G37: =IF(A37="","",IFERROR(COUNTIFS('Registro de Horas'!$C$2:$C$101,A37,'Registro de Horas'!$O$2:$O$101,"Regular")/COUNTIF('Registro de Horas'!$C$2:$C$101,A37),0)) | I37: =IF(H37="","",IFERROR(SUMIF('Registro de Horas'!$B$2:$B$101,H37,'Registro de Horas'!$K$2:$K$101),0))
B38: =IF(A38="","",SUMIF('Registro de Horas'!$C$2:$C$101,A38,'Registro de Horas'!$K$2:$K$101)) | C38: =IF(A38="","",IFERROR(AVERAGEIF('Registro de Horas'!$C$2:$C$101,A38,'Registro de Horas'!$K$2:$K$101),0)) | D38: =IF(A38="","",SUMIF('Registro de Horas'!$C$2:$C$101,A38,'Registro de Horas'!$M$2:$M$101)) | E38: =IF(A38="","",SUMIF('Registro de Horas'!$C$2:$C$101,A38,'Registro de Horas'!$N$2:$N$101)) | F38: =IF(A38="","",COUNTIF('Registro de Horas'!$C$2:$C$101,A38)) | G38: =IF(A38="","",IFERROR(COUNTIFS('Registro de Horas'!$C$2:$C$101,A38,'Registro de Horas'!$O$2:$O$101,"Regular")/COUNTIF('Registro de Horas'!$C$2:$C$101,A38),0)) | I38: =IF(H38="","",IFERROR(SUMIF('Registro de Horas'!$B$2:$B$101,H38,'Registro de Horas'!$K$2:$K$101),0))
B39: =IF(A39="","",SUMIF('Registro de Horas'!$C$2:$C$101,A39,'Registro de Horas'!$K$2:$K$101)) | C39: =IF(A39="","",IFERROR(AVERAGEIF('Registro de Horas'!$C$2:$C$101,A39,'Registro de Horas'!$K$2:$K$101),0)) | D39: =IF(A39="","",SUMIF('Registro de Horas'!$C$2:$C$101,A39,'Registro de Horas'!$M$2:$M$101)) | E39: =IF(A39="","",SUMIF('Registro de Horas'!$C$2:$C$101,A39,'Registro de Horas'!$N$2:$N$101)) | F39: =IF(A39="","",COUNTIF('Registro de Horas'!$C$2:$C$101,A39)) | G39: =IF(A39="","",IFERROR(COUNTIFS('Registro de Horas'!$C$2:$C$101,A39,'Registro de Horas'!$O$2:$O$101,"Regular")/COUNTIF('Registro de Horas'!$C$2:$C$101,A39),0)) | I39: =IF(H39="","",IFERROR(SUMIF('Registro de Horas'!$B$2:$B$101,H39,'Registro de Horas'!$K$2:$K$101),0))
B40: =IF(A40="","",SUMIF('Registro de Horas'!$C$2:$C$101,A40,'Registro de Horas'!$K$2:$K$101)) | C40: =IF(A40="","",IFERROR(AVERAGEIF('Registro de Horas'!$C$2:$C$101,A40,'Registro de Horas'!$K$2:$K$101),0)) | D40: =IF(A40="","",SUMIF('Registro de Horas'!$C$2:$C$101,A40,'Registro de Horas'!$M$2:$M$101)) | E40: =IF(A40="","",SUMIF('Registro de Horas'!$C$2:$C$101,A40,'Registro de Horas'!$N$2:$N$101)) | F40: =IF(A40="","",COUNTIF('Registro de Horas'!$C$2:$C$101,A40)) | G40: =IF(A40="","",IFERROR(COUNTIFS('Registro de Horas'!$C$2:$C$101,A40,'Registro de Horas'!$O$2:$O$101,"Regular")/COUNTIF('Registro de Horas'!$C$2:$C$101,A40),0)) | I40: =IF(H40="","",IFERROR(SUMIF('Registro de Horas'!$B$2:$B$101,H40,'Registro de Horas'!$K$2:$K$101),0))
B41: =IF(A41="","",SUMIF('Registro de Horas'!$C$2:$C$101,A41,'Registro de Horas'!$K$2:$K$101)) | C41: =IF(A41="","",IFERROR(AVERAGEIF('Registro de Horas'!$C$2:$C$101,A41,'Registro de Horas'!$K$2:$K$101),0)) | D41: =IF(A41="","",SUMIF('Registro de Horas'!$C$2:$C$101,A41,'Registro de Horas'!$M$2:$M$101)) | E41: =IF(A41="","",SUMIF('Registro de Horas'!$C$2:$C$101,A41,'Registro de Horas'!$N$2:$N$101)) | F41: =IF(A41="","",COUNTIF('Registro de Horas'!$C$2:$C$101,A41)) | G41: =IF(A41="","",IFERROR(COUNTIFS('Registro de Horas'!$C$2:$C$101,A41,'Registro de Horas'!$O$2:$O$101,"Regular")/COUNTIF('Registro de Horas'!$C$2:$C$101,A41),0)) | I41: =IF(H41="","",IFERROR(SUMIF('Registro de Horas'!$B$2:$B$101,H41,'Registro de Horas'!$K$2:$K$101),0))
B42: =IF(A42="","",SUMIF('Registro de Horas'!$C$2:$C$101,A42,'Registro de Horas'!$K$2:$K$101)) | C42: =IF(A42="","",IFERROR(AVERAGEIF('Registro de Horas'!$C$2:$C$101,A42,'Registro de Horas'!$K$2:$K$101),0)) | D42: =IF(A42="","",SUMIF('Registro de Horas'!$C$2:$C$101,A42,'Registro de Horas'!$M$2:$M$101)) | E42: =IF(A42="","",SUMIF('Registro de Horas'!$C$2:$C$101,A42,'Registro de Horas'!$N$2:$N$101)) | F42: =IF(A42="","",COUNTIF('Registro de Horas'!$C$2:$C$101,A42)) | G42: =IF(A42="","",IFERROR(COUNTIFS('Registro de Horas'!$C$2:$C$101,A42,'Registro de Horas'!$O$2:$O$101,"Regular")/COUNTIF('Registro de Horas'!$C$2:$C$101,A42),0)) | I42: =IF(H42="","",IFERROR(SUMIF('Registro de Horas'!$B$2:$B$101,H42,'Registro de Horas'!$K$2:$K$101),0))
... B114: =IF(A114="","",SUMIF('Registro de Horas'!$C$2:$C$101,A114,'Registro de Horas'!$K$2:$K$101)) | C114: =IF(A114="","",IFERROR(AVERAGEIF('Registro de Horas'!$C$2:$C$101,A114,'Registro de Horas'!$K$2:$K$101),0)) | D114: =IF(A114="","",SUMIF('Registro de Horas'!$C$2:$C$101,A114,'Registro de Horas'!$M$2:$M$101)) | E114: =IF(A114="","",SUMIF('Registro de Horas'!$C$2:$C$101,A114,'Registro de Horas'!$N$2:$N$101)) | F114: =IF(A114="","",COUNTIF('Registro de Horas'!$C$2:$C$101,A114)) | G114: =IF(A114="","",IFERROR(COUNTIFS('Registro de Horas'!$C$2:$C$101,A114,'Registro de Horas'!$O$2:$O$101,"Regular")/COUNTIF('Registro de Horas'!$C$2:$C$101,A114),0)) | I114: =IF(H114="","",IFERROR(SUMIF('Registro de Horas'!$B$2:$B$101,H114,'Registro de Horas'!$K$2:$K$101),0))
I115: =IF(H115="","",IFERROR(SUMIF('Registro de Horas'!$B$2:$B$101,H115,'Registro de Horas'!$K$2:$K$101),0))
I116: =IF(H116="","",IFERROR(SUMIF('Registro de Horas'!$B$2:$B$101,H116,'Registro de Horas'!$K$2:$K$101),0))
I117: =IF(H117="","",IFERROR(SUMIF('Registro de Horas'!$B$2:$B$101,H117,'Registro de Horas'!$K$2:$K$101),0))
I118: =IF(H118="","",IFERROR(SUMIF('Registro de Horas'!$B$2:$B$101,H118,'Registro de Horas'!$K$2:$K$101),0))
I119: =IF(H119="","",IFERROR(SUMIF('Registro de Horas'!$B$2:$B$101,H119,'Registro de Horas'!$K$2:$K$101),0))
I120: =IF(H120="","",IFERROR(SUMIF('Registro de Horas'!$B$2:$B$101,H120,'Registro de Horas'!$K$2:$K$101),0))
I121: =IF(H121="","",IFERROR(SUMIF('Registro de Horas'!$B$2:$B$101,H121,'Registro de Horas'!$K$2:$K$101),0))
I122: =IF(H122="","",IFERROR(SUMIF('Registro de Horas'!$B$2:$B$101,H122,'Registro de Horas'!$K$2:$K$101),0))
I123: =IF(H123="","",IFERROR(SUMIF('Registro de Horas'!$B$2:$B$101,H123,'Registro de Horas'!$K$2:$K$101),0))
I124: =IF(H124="","",IFERROR(SUMIF('Registro de Horas'!$B$2:$B$101,H124,'Registro de Horas'!$K$2:$K$101),0))

Sheet Instruções
A1: Instruções de Uso — Controle de Horas
A3: Orientação | B3: Detalhamento
A4: 1 | B4: Preencha somente as células amarelas. As colunas de horas, jornada prevista, extras, déficit e status são calculadas automaticamente.
A5: 2 | B5: Registre entrada, saída para intervalo, retorno do intervalo e saída no formato HH:MM.
A6: 3 | B6: Informe corretamente o tipo de jornada para calcular a jornada prevista com base na tabela auxiliar da aba Resumo.
A7: 4 | B7: Confira os registros com status “Déficit” ou “Pendente” antes do fechamento do período.
A8: 5 | B8: O controle deve ser validado pelo responsável de RH ou gestor da área.
A9: 6 | B9: Observe as regras internas, a CLT, banco de horas, intervalos e acordos coletivos aplicáveis à organização.
A10: 7 | B10: Trate os dados de jornada conforme a LGPD e as orientações vigentes da ANPD.
A11: 8 | B11: A aba Registro de Horas possui capacidade preparada para 100 lançamentos, até a linha 101. Mantenha o ID preenchido para ativar os cálculos da linha.
A12: 9 | B12: Na aba Resumo, atualize os nomes de colaboradores e as datas de consolidação nas células amarelas para acompanhar os indicadores e gráficos.
A15: Aba | B15: Finalidade
A16: Registro de Horas | B16: Lançamento diário de jornada, horários, status e observações.
... A18: Instruções | B18: Orientações operacionais, controles e cuidados para uso responsável dos dados.
